BEGIN:VCALENDAR
VERSION:2.0
PRODID:-//Eventin//Event Calendar//EN
CALSCALE:GREGORIAN
METHOD:PUBLISH
BEGIN:VEVENT
UID:9be5b135b6d471c394d40b0da3591c3e@denverbeacon.org
SUMMARY:BLOOM at beacon
DESCRIPTION:Motherhood is a journey of constant growth\, and this year\, we
  want to celebrate that beauty together. You are cordially invited to BLOOM
 \, our 2026 Mother’s Day Experience.\nWe have curated a special morning t
 o honor all the women in our community. With three convenient service times
 \, there is a seat at the table for everyone.\n\n\nDate: Sunday\, May 10th\
 n\n\nTimes: 8:30 AM\, 10:00 AM\, and 11:30 AM\n\n\nLocation: beacon\n\n\nMa
 ke plans now to join us for a day of inspiration\, connection\, and celebra
 tion.
LOCATION:beacon Church\, 1615 N. Ogden St.\, Denver
DTSTAMP:20260424T141816Z
DTSTART:20260510T143000Z
DTEND:20260510T173000Z
END:VEVENT
END:VCALENDAR
